BEGIN:VCALENDAR
VERSION:2.0
PRODID:-//Olympia Cruise Line - ECPv6.15.17.1//NONSGML v1.0//EN
CALSCALE:GREGORIAN
METHOD:PUBLISH
X-WR-CALNAME:Olympia Cruise Line
X-ORIGINAL-URL:https://torontocruises.com
X-WR-CALDESC:Events for Olympia Cruise Line
REFRESH-INTERVAL;VALUE=DURATION:PT1H
X-Robots-Tag:noindex
X-PUBLISHED-TTL:PT1H
BEGIN:VTIMEZONE
TZID:UTC
BEGIN:STANDARD
TZOFFSETFROM:+0000
TZOFFSETTO:+0000
TZNAME:UTC
DTSTART:20240101T000000
END:STANDARD
END:VTIMEZONE
BEGIN:VEVENT
DTSTART;TZID=UTC:20251004T130000
DTEND;TZID=UTC:20251004T180000
DTSTAMP:20260420T225728
CREATED:20250912T172414Z
LAST-MODIFIED:20250912T172414Z
UID:21104-1759582800-1759600800@torontocruises.com
SUMMARY:DJ Private Ryan presents SOCA BABY Toronto
DESCRIPTION:This is a food inclusive boat cruise dedicated to true lovers of Soca music. Presented by DJ Private Ryan and Battalion Music. \nBUY TICKETS
URL:https://torontocruises.com/event/dj-private-ryan-presents-soca-baby-toronto/
LOCATION:Enterprise 2000\, 176 Cherry Street\, Pier 36\, Toronto\, ON\, M5A 1A4\, Canada
CATEGORIES:Boat Party
ATTACH;FMTTYPE=image/jpeg:https://torontocruises.com/wp-content/uploads/2025/09/SOCA.jpeg
END:VEVENT
BEGIN:VEVENT
DTSTART;TZID=UTC:20251004T200000
DTEND;TZID=UTC:20251005T010000
DTSTAMP:20260420T225728
CREATED:20250912T171316Z
LAST-MODIFIED:20250912T171316Z
UID:21097-1759608000-1759626000@torontocruises.com
SUMMARY:2nd Annual Jounen Kweyol Boat Ride
DESCRIPTION:Come Celebrate Creole Month in style as we set sail for an unforgettable night of music\, culture\, and fun! \nSaturday October 4th 2025\nTime: Bording 8PM departure 9PM until 1Am\nLocation: Stella Borealis\n176 Cherry street\nToronto \nTickets: early bird $30 General admin $40 … General admin part 2 $50…. Last minute   $70 \nDance the night away with friends and family! \nGet ready to vibe on the waves. We know that you love the culture\, this is the event you don’t want to miss! \nLimited spots available – get your early birth tickets now and let’s make this boat ride  one for the books! \nMusic by : Dj Gusto\, & Toxic\nPlaying the best of kompa\, zouk\, soca\, reggae\, Afrobeats and many more. \nSee you there \nFor more information : \nToxic 647-588-3261\nPipa 647-894-7529 \n \nBUY TICKETS
URL:https://torontocruises.com/event/2nd-annual-jounen-kweyol-boat-ride/
LOCATION:Stella Borealis\, 176 Cherry Street\, Pier 36\, Toronto\, ON\, M5A 1A4\, Canada
CATEGORIES:Boat Party
ATTACH;FMTTYPE=image/jpeg:https://torontocruises.com/wp-content/uploads/2025/09/REP.jpeg
END:VEVENT
BEGIN:VEVENT
DTSTART;TZID=UTC:20251019T150000
DTEND;TZID=UTC:20251019T200000
DTSTAMP:20260420T225728
CREATED:20250912T172024Z
LAST-MODIFIED:20251008T141636Z
UID:21101-1760886000-1760904000@torontocruises.com
SUMMARY:F#CK WINTER: The Jogging Suit Boat Cruise
DESCRIPTION:F#CK WINTER: The Jogging Suit Boat Cruise\nGet ready to say goodbye to the cold in style! On Sunday\, October 19\, 2025\, Brenton B presents the highly anticipated year-to-year boat ride\, the ultimate joggers-and-vibes experience. \nStep aboard the Enterprise 2000 at 176 Cherry St\, Downtown Toronto for an unforgettable afternoon on the water. Boarding starts at 2:00 PM and we set sail promptly at 3:00 PM. \nThis isn’t just a boat cruise—it’s a full-on celebration of fun\, fashion\, and freedom. Throw on your best jogging suit and join hundreds of partygoers who refuse to let winter kill the vibe. \nEvent Details:\n\nTheme: Jogging Suit Boat Cruise\nDate: Sunday\, October 19\, 2025\nVenue: Enterprise 2000 – 176 Cherry St\, Toronto\nBoarding: 2:00 PM | Departure: 3:00 PM\nTickets: Early Bird $60 – available exclusively at TicketGateway.com\nFood: Sold separately on board\n\nWhy You Can’t Miss It:\n\nLegendary year-to-year boat party energy\nToronto’s finest crowd & DJs\nScenic fall views before winter sets in\nThemed jogging suit atmosphere for maximum comfort and style\n\nSecure Your Spot\nEarly Bird tickets go on sale Thursday at 12:00 PM (lunch time). Don’t wait—this cruise sells out every year. \nFor booth bookings and more info\, call 416.697.7299 or connect with @MCBrentonB. \nBUY TICKETS
URL:https://torontocruises.com/event/fck-winter-the-jogging-suit-boat-cruise/
LOCATION:Enterprise 2000\, 176 Cherry Street\, Pier 36\, Toronto\, ON\, M5A 1A4\, Canada
CATEGORIES:Boat Party
ATTACH;FMTTYPE=image/jpeg:https://torontocruises.com/wp-content/uploads/2025/09/WINTER.jpeg
END:VEVENT
END:VCALENDAR