BEGIN:VCALENDAR
VERSION:2.0
PRODID:-//Olympia Cruise Line - ECPv6.15.17.1//NONSGML v1.0//EN
CALSCALE:GREGORIAN
METHOD:PUBLISH
X-WR-CALNAME:Olympia Cruise Line
X-ORIGINAL-URL:https://torontocruises.com
X-WR-CALDESC:Events for Olympia Cruise Line
REFRESH-INTERVAL;VALUE=DURATION:PT1H
X-Robots-Tag:noindex
X-PUBLISHED-TTL:PT1H
BEGIN:VTIMEZONE
TZID:America/Halifax
BEGIN:DAYLIGHT
TZOFFSETFROM:-0400
TZOFFSETTO:-0300
TZNAME:ADT
DTSTART:20240310T060000
END:DAYLIGHT
BEGIN:STANDARD
TZOFFSETFROM:-0300
TZOFFSETTO:-0400
TZNAME:AST
DTSTART:20241103T050000
END:STANDARD
BEGIN:DAYLIGHT
TZOFFSETFROM:-0400
TZOFFSETTO:-0300
TZNAME:ADT
DTSTART:20250309T060000
END:DAYLIGHT
BEGIN:STANDARD
TZOFFSETFROM:-0300
TZOFFSETTO:-0400
TZNAME:AST
DTSTART:20251102T050000
END:STANDARD
BEGIN:DAYLIGHT
TZOFFSETFROM:-0400
TZOFFSETTO:-0300
TZNAME:ADT
DTSTART:20260308T060000
END:DAYLIGHT
BEGIN:STANDARD
TZOFFSETFROM:-0300
TZOFFSETTO:-0400
TZNAME:AST
DTSTART:20261101T050000
END:STANDARD
END:VTIMEZONE
BEGIN:VTIMEZONE
TZID:UTC
BEGIN:STANDARD
TZOFFSETFROM:+0000
TZOFFSETTO:+0000
TZNAME:UTC
DTSTART:20240101T000000
END:STANDARD
END:VTIMEZONE
BEGIN:VEVENT
DTSTART;TZID=America/Halifax:20250816T200000
DTEND;TZID=America/Halifax:20250817T003000
DTSTAMP:20260421T024412
CREATED:20250527T225409Z
LAST-MODIFIED:20250527T225409Z
UID:20834-1755374400-1755390600@torontocruises.com
SUMMARY:Rain or Shine - All White Boat Cruise
DESCRIPTION:🚨 RAIN OR SHINE – ALL WHITE BOAT CRUISE 🚨\nSaturday\, August 16th | Enterprise 2000 \nSpice up your summer with Toronto’s most anticipated all white summer cruise SOLD OUT 5 YEARS IN A ROW 🛥🔥 \n🕗 Boarding: 8:00 PM\n🛳 Departure: 8:30 PM Sharp\n⛵ Return: 12:30 AM\n🎉 AFTER PARTY INCLUDED with your Cruise Ticket – Location TBA \n💦\n🎟 TICKETS LIVE – visit www.diamondpromoent.ca \n#RainOrShineCruise #AllWhiteCruiseTO #DiamondPromoEnt #SummerOnTheWater #AfrobeatsCruise #Enterprise2000 #OnlyOneCruise #TorontoBoatParty \n \nBUY TICKETS
URL:https://torontocruises.com/event/rain-or-shine-all-white-boat-cruise/
LOCATION:Enterprise 2000\, 176 Cherry Street\, Pier 36\, Toronto\, ON\, M5A 1A4\, Canada
CATEGORIES:Boat Party
ATTACH;FMTTYPE=image/jpeg:https://torontocruises.com/wp-content/uploads/2025/05/all-white-cropped-resized.jpg
END:VEVENT
BEGIN:VEVENT
DTSTART;TZID=UTC:20250817T190000
DTEND;TZID=UTC:20250818T000000
DTSTAMP:20260421T024412
CREATED:20250626T152028Z
LAST-MODIFIED:20250626T152028Z
UID:21046-1755457200-1755475200@torontocruises.com
SUMMARY:SLOW JAMZ | R n B + LOVER'S ROCK @ SUNSET CRUISE
DESCRIPTION:Mark iLand Ent. and A Reason To Party Ent. brings to you the Slow Jamz | R n B + Lover’s Rock @ Sunset Cruise. This will be an evening of Slow Jamz\, R n’ B and Lover’s Rock Hits from a variety of Eras. Join us as we sail along Toronto’s majestic shore line while enjoying hits from the golden ages of these genres. \n70’s & 80’s Souls Music \nMotown Classic Love Songs \n90’z & 2000’z Slow Jamz/R n B Hitz \nLover’s Rock \n  \nMark iLand | SuppaNatty | Dj Charmz | Stubbs The Dj | MC GQ\n  \nEnterpise 2000\n176 Cherry St (Downtown\, Toronto) \nBoarding | 7pm . Sailing | 8pm . Returning | 12pm \n  \n$60 Early Bird Tickets  \n$80 General Admission \nDinner Included w/ Vegan Options \n  \nINFO:\n647.705.1229 \ndjmarkiland@gmail.com | areasontopartyent@gmail.com \nBirthday and Anniversary Booths Available \n  \nThis Event is sponsored by:\nNerpy’s Nice It Up \nEnvy Couture Clothing \nA & C Movers \nYour Essential For Life Advisor \n  \n19+ . No Sportswear \nBUY TICKETS
URL:https://torontocruises.com/event/slow-jamz-r-n-b-lovers-rock-sunset-cruise/
LOCATION:Enterprise 2000\, 176 Cherry Street\, Pier 36\, Toronto\, ON\, M5A 1A4\, Canada
CATEGORIES:Boat Party
ATTACH;FMTTYPE=image/jpeg:https://torontocruises.com/wp-content/uploads/2025/06/sunset-cruise-resized.jpg
END:VEVENT
BEGIN:VEVENT
DTSTART;TZID=UTC:20250824T190000
DTEND;TZID=UTC:20250825T010000
DTSTAMP:20260421T024412
CREATED:20250611T202351Z
LAST-MODIFIED:20250611T202351Z
UID:21032-1756062000-1756083600@torontocruises.com
SUMMARY:Denim And White Boat Cruise 2025
DESCRIPTION:𝘛𝘰𝘳𝘰𝘯𝘵𝘰\, 𝘪𝘵’𝘴 𝘢𝘭𝘮𝘰𝘴𝘵 𝘵𝘩𝘢𝘵 𝘵𝘪𝘮𝘦 𝘢𝘨𝘢𝘪𝘯 🚨 \n𝗧𝗵𝗲 𝗢𝗳𝗳𝗶𝗰𝗶𝗮𝗹 𝗗𝗲𝗻𝗶𝗺 & 𝗪𝗵𝗶𝘁𝗲 𝗕𝗼𝗮𝘁 𝗖𝗿𝘂𝗶𝘀𝗲 🚢 \n𝘔𝘢𝘳𝘬 𝘵𝘩𝘦 𝘥𝘢𝘵𝘦….\n𝗦𝘂𝗻𝗱𝗮𝘆\, 𝗔𝘂𝗴𝘂𝘀𝘁 𝟮𝟰𝘁𝗵\, 𝟮𝟬𝟮𝟱 \n𝘑𝘰𝘪𝘯 𝘶𝘴 𝘢𝘣𝘰𝘢𝘳𝘥 𝘵𝘩𝘦 𝘩𝘪𝘴𝘵𝘰𝘳𝘪𝘤 𝘌𝘯𝘵𝘦𝘳𝘱𝘳𝘪𝘴𝘦 2000 𝘧𝘰𝘳 𝘵𝘩𝘦 𝘶𝘭𝘵𝘪𝘮𝘢𝘵𝘦 𝘦𝘹𝘱𝘦𝘳𝘪𝘦𝘯𝘤𝘦! 𝘌𝘯𝘫𝘰𝘺 𝘥𝘦𝘭𝘪𝘤𝘪𝘰𝘶𝘴 𝘤𝘶𝘪𝘴𝘪𝘯𝘦 𝘢𝘯𝘥 𝘶𝘯𝘭𝘪𝘮𝘪𝘵𝘦𝘥 𝘷𝘪𝘣𝘦𝘴 𝘰𝘯 𝘵𝘩𝘦 𝘭𝘢𝘥𝘪𝘦𝘴’ 𝘧𝘢𝘷𝘰𝘶𝘳𝘪𝘵𝘦 𝘣𝘰𝘢𝘵 𝘳𝘪𝘥𝘦 – 𝘢𝘯 𝘦𝘷𝘦𝘯𝘵 𝘵𝘩𝘢𝘵 𝘴𝘦𝘭𝘭𝘴 𝘰𝘶𝘵 𝘦𝘷𝘦𝘳𝘺 𝘺𝘦𝘢𝘳! \n𝙎𝙤𝙪𝙣𝙙𝙨 𝙬𝙖𝙫𝙚𝙨 𝙥𝙧𝙤𝙫𝙞𝙙𝙚𝙙 𝙗𝙮 •.\n@firistic_steenie\n@djsocasweetness\n@thisisskitz\n@djflare.rapidboss \n𝗘𝗺𝗰𝗲𝗲 •\n@kidkut \n𝘽𝙤𝙖𝙧𝙙𝙞𝙣𝙜 7𝙥𝙢 ⚓ \n𝘗𝘳𝘦•𝘴𝘢𝘭𝘦 𝘵𝘪𝘤𝘬𝘦𝘵𝘴 𝘰𝘯 𝘴𝘢𝘭𝘦 𝘯𝘰𝘸..\n𝗦𝗲𝗰𝘂𝗿𝗲 𝘆𝗼𝘂𝗿𝘀 𝗯𝗲𝗳𝗼𝗿𝗲 𝘁𝗵𝗲𝘆’𝗿𝗲 𝗴𝗼𝗻𝗲! \n𝘋𝘰𝘯’𝘵 𝘨𝘦𝘵 𝘭𝘦𝘧𝘵 𝘰𝘯 𝘵𝘩𝘦 𝘥𝘰𝘤𝘬 𝘴𝘦𝘤𝘶𝘳𝘦 𝘺𝘰𝘶𝘳 𝘴𝘱𝘰𝘵 𝘯𝘰𝘸 🚢 ! \n#WeHere \nBUY TICKETS
URL:https://torontocruises.com/event/denim-and-white-boat-cruise-2025/
LOCATION:Enterprise 2000\, 176 Cherry Street\, Pier 36\, Toronto\, ON\, M5A 1A4\, Canada
CATEGORIES:Boat Party
ATTACH;FMTTYPE=image/jpeg:https://torontocruises.com/wp-content/uploads/2025/06/denim-and-white-cropped-resized.jpg
END:VEVENT
BEGIN:VEVENT
DTSTART;TZID=UTC:20250830T120000
DTEND;TZID=UTC:20250830T150000
DTSTAMP:20260421T024412
CREATED:20250527T200545Z
LAST-MODIFIED:20250527T200545Z
UID:20792-1756555200-1756566000@torontocruises.com
SUMMARY:Uncle Emans Kiddies Cruise
DESCRIPTION:‼ATTENTION TICKETS GO ON SALE FRIDAY‼ \nThis years ⚓Uncle EMan’s Kiddies Cruise🚢 is taking place on Saturday\, August 30th\, 2025 but it’s ONE CRUISE ONLY!!\nLimited space this year so ‘First Come First Serve!” \nAboard the Enterprise 2000 – 176 Cherry St.\n•Boarding: 12pm\n•Sailing: 1 – 3pm \nTickets on go on sale May 30th online at:\nEMANEVENTS.COM \nDJ Aye B\, DJ Ryan\, Uncles Dr Jay De Soca Prince & Incredible DJ Shy will have everyone jumpin’ & wavin’\, alongside Aunty Ayanna’s Socacize Team and live performances by Uncle Jaxx & J Fiyre. \nThe kids also have the opportunity to create their own headpieces with world renowned costume designers Uncle Hayden aka “Pumpkin” and get there face painted by Aunty Ariel from Dream Paint Arts. \nThis all inclusive event for the kids includes: \n•Light Lunch (with veggie option)\n•Face painting 🤡\n•Carnival Mask Decorating 🎭\n•Steelpan & Rhythm Section🥁\n•Balloons 🎈\n•Games 🧩\n•Dance Workshop 💃🏽🕺🏽\n•Carnival Parade 🥳\n•Cotton Candy 🍡\n•Popcorn 🍿\n•Snow Cone 🍧 \nFor Birthday Booth Packages and more information\, contact Uncle EMan (416) 953-0905 \n \nBUY TICKETS
URL:https://torontocruises.com/event/uncle-emans-kiddies-cruise/
LOCATION:Enterprise 2000\, 176 Cherry Street\, Pier 36\, Toronto\, ON\, M5A 1A4\, Canada
CATEGORIES:Boat Party
ATTACH;FMTTYPE=image/jpeg:https://torontocruises.com/wp-content/uploads/2025/05/uncle-emans-cruise-Cropped-resized.jpg
END:VEVENT
BEGIN:VEVENT
DTSTART;TZID=UTC:20250831T120000
DTEND;TZID=UTC:20250831T170000
DTSTAMP:20260421T024412
CREATED:20250725T191653Z
LAST-MODIFIED:20250725T191910Z
UID:21071-1756641600-1756659600@torontocruises.com
SUMMARY:REMEMBER DE BACCHANAL
DESCRIPTION:REMEMBER DE BACCHANAL\nWHITE With A Twist of BRIGHT BOAT RIDE\nThe Labour Day Sunday Ritual Continues… \nWe wanted a “Twist” and came up with something “Bright” \nThe Annual RDB Boat Ride \nSUNDAY AUG 31st\, 2025 | 12-5pm | Aboard STELLA BOREALIS 176 Cherry St \nFt. An ALL-STAR CAST LABOUR DAY SUNDAY \nBoarding: 12:00PM \nDeparture: 12:30PM \nDisembark: 5:00PM \n \nBUY TICKETS
URL:https://torontocruises.com/event/remember-de-bacchanal/
LOCATION:Stella Borealis\, 176 Cherry Street\, Pier 36\, Toronto\, ON\, M5A 1A4\, Canada
CATEGORIES:Boat Party
ATTACH;FMTTYPE=image/jpeg:https://torontocruises.com/wp-content/uploads/2025/07/Remember-de-Bacchanal-resized.jpg
END:VEVENT
BEGIN:VEVENT
DTSTART;TZID=UTC:20250831T190000
DTEND;TZID=UTC:20250901T000000
DTSTAMP:20260421T024412
CREATED:20250529T230637Z
LAST-MODIFIED:20250529T230637Z
UID:20919-1756666800-1756684800@torontocruises.com
SUMMARY:Escape On the Lake
DESCRIPTION:🇹🇹𝘛𝘙𝘐𝘕𝘐𝘋𝘈𝘋 𝘐𝘕𝘋𝘌𝘗𝘌𝘕𝘋𝘌𝘕𝘊𝘌 𝘋𝘈𝘠🇹🇹\n𝗦𝘂𝗻𝗱𝗮𝘆 𝗔𝘂𝗴𝘂𝘀𝘁 3𝟭𝘀𝘁 \nUɴɪᴛᴇᴅ Sᴘᴏʀᴛs & A2K Pʀᴏᴍᴏᴛɪᴏɴs Pʀᴇsᴇɴᴛs\n@a2kpromotions \nTʜᴇ 3ʀᴅ Aɴɴᴜᴀʟ\n☀🚢𝑬𝑺𝑪𝑨𝑷𝑬 𝑶𝑵 𝑻𝑯𝑬 𝑳𝑨𝑲𝑬🚢☀ \n𝐀𝐥𝐥 𝐀𝐛𝐨𝐚𝐫𝐝 𝐄𝐍𝐓𝐄𝐑𝐏𝐑𝐈𝐒𝐄 𝟐𝟎𝟎𝟎\n📍𝟏𝟕𝟔 𝐂𝐡𝐞𝐫𝐫𝐲 𝐒𝐭𝐫𝐞𝐞𝐭\, 𝐓𝐨𝐫𝐨𝐧𝐭𝐨 \n🕖𝘉𝘰𝘢𝘳𝘥𝘪𝘯𝘨 7𝘗𝘔\n🕛𝘙𝘦𝘵𝘶𝘳𝘯𝘴 𝘔𝘐𝘋𝘕𝘐𝘎𝘏𝘛 \n🎶𝐌𝐮𝐬𝐢𝐜 𝐁𝐲:\n▪ 𝐃𝐉 𝐒𝐡𝐢𝐯𝐚 @djshiva1\n▪ 𝐃𝐉 𝐀𝐫𝐧𝐞𝐥 @dj.arnel\n▪ 𝐃𝐉 𝐉𝐑𝐆 @officaljrg\n▪ 𝐃𝐉 𝐓𝐫𝐢𝐜𝐤𝐲 @trickypromo\n▪ 𝐅𝐫𝐨𝐧𝐭𝐥𝐢𝐧𝐞 𝐒𝐨𝐮𝐧𝐝𝐬 @front \n🎤𝐇𝐨𝐬𝐭𝐞𝐝 𝐁𝐲:\n▪ 𝐒𝐊𝐅 𝐓𝐡𝐞 𝐂𝐡𝐚𝐦𝐩 @skfthechamp \n🎟$6𝟬 𝗘𝗔𝗥𝗟𝗬 𝗕𝗜𝗥𝗗𝗦 \n𝘍𝘰𝘰𝘥 𝘊𝘢𝘵𝘦𝘳𝘪𝘯𝘨 𝘉𝘺: 𝘋𝘳𝘶𝘱𝘢𝘵𝘪𝘴 @drupatis_scarborough\n𝘚𝘱𝘰𝘯𝘴𝘰𝘳𝘦𝘥 𝘉𝘺: 𝘔𝘰𝘳𝘵𝘨𝘢𝘨𝘦𝘴 𝘉𝘺 𝘛𝘳𝘪𝘴𝘩𝘢 & 𝘙𝘗 𝘏𝘰𝘮𝘦 𝘐𝘮𝘱𝘳𝘰𝘷𝘦𝘮𝘦𝘯𝘵\n@mortgageswithtrisha26 \n☎Fᴏʀ Mᴏʀᴇ Iɴғᴏ:\nKris 416-917-1610 @krisboodhan\nDuce 647-299-3823\nRalph 416-464-2150\nArnel 647-887-1531 \n \nBUY TICKETS
URL:https://torontocruises.com/event/escape-on-the-lake/
LOCATION:Enterprise 2000\, 176 Cherry Street\, Pier 36\, Toronto\, ON\, M5A 1A4\, Canada
CATEGORIES:Boat Party
END:VEVENT
BEGIN:VEVENT
DTSTART;TZID=America/Halifax:20250914T173000
DTEND;TZID=America/Halifax:20250914T203000
DTSTAMP:20260421T024412
CREATED:20250527T204626Z
LAST-MODIFIED:20250527T213448Z
UID:20807-1757871000-1757881800@torontocruises.com
SUMMARY:Party On Deck
DESCRIPTION:Runthings Promotion alongside Lion Heart presents \nPARTYY ON DECK 🌊🚢 \nDate: September 14\, 2025 \nThe Most Enjoyable Boat Cruise Partyyy 🔥💃 🕺 \nDress code: BROWN & WHITE 🟤⚪ \n📌BOARDING: 5:30PM📌 \n🔊Music by:\n@magnumforce\n@djflare\n@official_lionheart\n@overave sound\n@lukie_supreme \nTickets: $80 🎟🎟 (Food included) \nCall 647-773-8399 or 647-671-0271 for more information \nFollow @runthings_promotion for more updates and info \n \n 
URL:https://torontocruises.com/event/party-on-deck/
LOCATION:Stella Borealis\, 176 Cherry Street\, Pier 36\, Toronto\, ON\, M5A 1A4\, Canada
CATEGORIES:Boat Party
ATTACH;FMTTYPE=image/jpeg:https://torontocruises.com/wp-content/uploads/2025/05/Party-on-deck-cropped-resized.jpg
END:VEVENT
BEGIN:VEVENT
DTSTART;TZID=UTC:20250920T120000
DTEND;TZID=UTC:20250920T170000
DTSTAMP:20260421T024412
CREATED:20250912T170153Z
LAST-MODIFIED:20250912T170153Z
UID:21093-1758369600-1758387600@torontocruises.com
SUMMARY:STRUT Toronto Cruise
DESCRIPTION:YOUR FAV CRUISE IS BACK ✨🥂☀️🙂‍↔️ STRUT cruise Part ✌🏾. \nBring your crew and get ready for non-stop vibes. Ready 🆙🫡 \n  \n📅 Saturday Sept 20th ‘25 \n📍 The Enterprise 2000 (176 Cherry Street\, Toronto) \n⏰ Boarding: 12pm | Return: 5pm \n🍽️ Food & Fun Inclusive \n🎟️ Limited early bird tickets are now available \n  \nKeep in the loop! \nLog on to www.theliveinloveexperience.com | www.kylayevents.com \nOr follow us on IG @kylay_events @liveinloveeventsintl \n  \n19+ event | I.D. Req. \n \nBUY TICKETS
URL:https://torontocruises.com/event/strut-toronto-cruise/
LOCATION:Enterprise 2000\, 176 Cherry Street\, Pier 36\, Toronto\, ON\, M5A 1A4\, Canada
CATEGORIES:Boat Party
ATTACH;FMTTYPE=image/jpeg:https://torontocruises.com/wp-content/uploads/2025/09/STRUT-SQUARE.jpeg
END:VEVENT
BEGIN:VEVENT
DTSTART;TZID=UTC:20250920T190000
DTEND;TZID=UTC:20250921T000000
DTSTAMP:20260421T024412
CREATED:20250912T174113Z
LAST-MODIFIED:20250912T174113Z
UID:21112-1758394800-1758412800@torontocruises.com
SUMMARY:SUNSET LATIN NIGHT CRUISE
DESCRIPTION:DANCE SOCIAL TORONTO & DANCE TO THE RYTHMS STUDIO \nSUNSET LATIN NIGHT CRUISE \n 
URL:https://torontocruises.com/event/sunset-latin-night-cruise/
LOCATION:Stella Borealis\, 176 Cherry Street\, Pier 36\, Toronto\, ON\, M5A 1A4\, Canada
CATEGORIES:Boat Party
ATTACH;FMTTYPE=image/jpeg:https://torontocruises.com/wp-content/uploads/2025/09/SUNSET.jpeg
END:VEVENT
BEGIN:VEVENT
DTSTART;TZID=UTC:20250921T140000
DTEND;TZID=UTC:20250921T190000
DTSTAMP:20260421T024412
CREATED:20250912T214350Z
LAST-MODIFIED:20250912T214350Z
UID:21123-1758463200-1758481200@torontocruises.com
SUMMARY:Summer Splash - Summer Ender Boat Ride
DESCRIPTION:Summer Splash – Summer Ender Boat Ride \nSun Sep 21 2025
URL:https://torontocruises.com/event/summer-splash-summer-ender-boat-ride/
LOCATION:Stella Borealis\, 176 Cherry Street\, Pier 36\, Toronto\, ON\, M5A 1A4\, Canada
CATEGORIES:Boat Party
ATTACH;FMTTYPE=image/jpeg:https://torontocruises.com/wp-content/uploads/2025/09/SPLASHSQ.jpeg
END:VEVENT
BEGIN:VEVENT
DTSTART;TZID=UTC:20250927T190000
DTEND;TZID=UTC:20250928T000000
DTSTAMP:20260421T024412
CREATED:20250912T165320Z
LAST-MODIFIED:20250912T165320Z
UID:21090-1758999600-1759017600@torontocruises.com
SUMMARY:Captain Shayne's Yacht Rockin' Party Cruise
DESCRIPTION:RDP Presents: Captain Shayne’s Yacht Rockin’ Party Cruise. Saturday September 27th aboard the Enterprise 2000 \n176 Cherry St (at the Cherry St. bridge) Dance to the greatest music of the 70s\, 80s and 90’s. \nFeaturing Live music by Rick Miller and Trainwreck\, plus popular Dj. \nBoat boards at 7pm. Sails at 8pm sharp. Ticket $50. Food available. \nFor more info contact Roger 416 720 3942 \nBUY TICKETS
URL:https://torontocruises.com/event/captain-shaynes-yacht-rockin-party-cruise/
LOCATION:Enterprise 2000\, 176 Cherry Street\, Pier 36\, Toronto\, ON\, M5A 1A4\, Canada
CATEGORIES:Boat Party
ATTACH;FMTTYPE=image/jpeg:https://torontocruises.com/wp-content/uploads/2025/09/WhatsApp-Image-2025-09-12-at-10.12.25-PM.jpeg
END:VEVENT
BEGIN:VEVENT
DTSTART;TZID=UTC:20251004T130000
DTEND;TZID=UTC:20251004T170000
DTSTAMP:20260421T024412
CREATED:20250912T173016Z
LAST-MODIFIED:20250912T173149Z
UID:21107-1759582800-1759597200@torontocruises.com
SUMMARY:SOUND & STYLE 4.0
DESCRIPTION:SOUND & STYLE IS BACK🔥 \nYear To Year\, The Highly Anticipated Libra Birthday Event Of SC SOUNDZ & DJ INSTYLE🎉🥳 \nMARK THE DATE FOR THIS YEAR📝\nSATURDAY OCTOBER 4TH🗓 \nThis Year We Bringing A Whole New Vibe & Energy To Our Event As We Will Be Celebrating In The DAY☀️ \nBOOTHS 80% SOLD OUT🤯😱 \n⚠️⚠️⚠️$35 FLASH SALE⚠️⚠️⚠️\nTILL SEPT 4TH! TICKETGATEWAY.COM OR ETRANSFER! \nBUY TICKETS
URL:https://torontocruises.com/event/sound-style-4-0/
LOCATION:Stella Borealis\, 176 Cherry Street\, Pier 36\, Toronto\, ON\, M5A 1A4\, Canada
CATEGORIES:Boat Party
ATTACH;FMTTYPE=image/jpeg:https://torontocruises.com/wp-content/uploads/2025/09/SOUND.jpeg
END:VEVENT
BEGIN:VEVENT
DTSTART;TZID=UTC:20251004T130000
DTEND;TZID=UTC:20251004T180000
DTSTAMP:20260421T024412
CREATED:20250912T172414Z
LAST-MODIFIED:20250912T172414Z
UID:21104-1759582800-1759600800@torontocruises.com
SUMMARY:DJ Private Ryan presents SOCA BABY Toronto
DESCRIPTION:This is a food inclusive boat cruise dedicated to true lovers of Soca music. Presented by DJ Private Ryan and Battalion Music. \nBUY TICKETS
URL:https://torontocruises.com/event/dj-private-ryan-presents-soca-baby-toronto/
LOCATION:Enterprise 2000\, 176 Cherry Street\, Pier 36\, Toronto\, ON\, M5A 1A4\, Canada
CATEGORIES:Boat Party
ATTACH;FMTTYPE=image/jpeg:https://torontocruises.com/wp-content/uploads/2025/09/SOCA.jpeg
END:VEVENT
BEGIN:VEVENT
DTSTART;TZID=UTC:20251004T200000
DTEND;TZID=UTC:20251005T010000
DTSTAMP:20260421T024412
CREATED:20250912T171316Z
LAST-MODIFIED:20250912T171316Z
UID:21097-1759608000-1759626000@torontocruises.com
SUMMARY:2nd Annual Jounen Kweyol Boat Ride
DESCRIPTION:Come Celebrate Creole Month in style as we set sail for an unforgettable night of music\, culture\, and fun! \nSaturday October 4th 2025\nTime: Bording 8PM departure 9PM until 1Am\nLocation: Stella Borealis\n176 Cherry street\nToronto \nTickets: early bird $30 General admin $40 … General admin part 2 $50…. Last minute   $70 \nDance the night away with friends and family! \nGet ready to vibe on the waves. We know that you love the culture\, this is the event you don’t want to miss! \nLimited spots available – get your early birth tickets now and let’s make this boat ride  one for the books! \nMusic by : Dj Gusto\, & Toxic\nPlaying the best of kompa\, zouk\, soca\, reggae\, Afrobeats and many more. \nSee you there \nFor more information : \nToxic 647-588-3261\nPipa 647-894-7529 \n \nBUY TICKETS
URL:https://torontocruises.com/event/2nd-annual-jounen-kweyol-boat-ride/
LOCATION:Stella Borealis\, 176 Cherry Street\, Pier 36\, Toronto\, ON\, M5A 1A4\, Canada
CATEGORIES:Boat Party
ATTACH;FMTTYPE=image/jpeg:https://torontocruises.com/wp-content/uploads/2025/09/REP.jpeg
END:VEVENT
BEGIN:VEVENT
DTSTART;TZID=UTC:20251019T150000
DTEND;TZID=UTC:20251019T200000
DTSTAMP:20260421T024412
CREATED:20250912T172024Z
LAST-MODIFIED:20251008T141636Z
UID:21101-1760886000-1760904000@torontocruises.com
SUMMARY:F#CK WINTER: The Jogging Suit Boat Cruise
DESCRIPTION:F#CK WINTER: The Jogging Suit Boat Cruise\nGet ready to say goodbye to the cold in style! On Sunday\, October 19\, 2025\, Brenton B presents the highly anticipated year-to-year boat ride\, the ultimate joggers-and-vibes experience. \nStep aboard the Enterprise 2000 at 176 Cherry St\, Downtown Toronto for an unforgettable afternoon on the water. Boarding starts at 2:00 PM and we set sail promptly at 3:00 PM. \nThis isn’t just a boat cruise—it’s a full-on celebration of fun\, fashion\, and freedom. Throw on your best jogging suit and join hundreds of partygoers who refuse to let winter kill the vibe. \nEvent Details:\n\nTheme: Jogging Suit Boat Cruise\nDate: Sunday\, October 19\, 2025\nVenue: Enterprise 2000 – 176 Cherry St\, Toronto\nBoarding: 2:00 PM | Departure: 3:00 PM\nTickets: Early Bird $60 – available exclusively at TicketGateway.com\nFood: Sold separately on board\n\nWhy You Can’t Miss It:\n\nLegendary year-to-year boat party energy\nToronto’s finest crowd & DJs\nScenic fall views before winter sets in\nThemed jogging suit atmosphere for maximum comfort and style\n\nSecure Your Spot\nEarly Bird tickets go on sale Thursday at 12:00 PM (lunch time). Don’t wait—this cruise sells out every year. \nFor booth bookings and more info\, call 416.697.7299 or connect with @MCBrentonB. \nBUY TICKETS
URL:https://torontocruises.com/event/fck-winter-the-jogging-suit-boat-cruise/
LOCATION:Enterprise 2000\, 176 Cherry Street\, Pier 36\, Toronto\, ON\, M5A 1A4\, Canada
CATEGORIES:Boat Party
ATTACH;FMTTYPE=image/jpeg:https://torontocruises.com/wp-content/uploads/2025/09/WINTER.jpeg
END:VEVENT
END:VCALENDAR